BEGIN:VCALENDAR
VERSION:2.0
PRODID:-//Campus View Elementary - ECPv6.2.8.1//NONSGML v1.0//EN
CALSCALE:GREGORIAN
METHOD:PUBLISH
X-ORIGINAL-URL:https://campusview.sd61.bc.ca
X-WR-CALDESC:Events for Campus View Elementary
REFRESH-INTERVAL;VALUE=DURATION:PT1H
X-Robots-Tag:noindex
X-PUBLISHED-TTL:PT1H
BEGIN:VTIMEZONE
TZID:America/Vancouver
BEGIN:DAYLIGHT
TZOFFSETFROM:-0800
TZOFFSETTO:-0700
TZNAME:PDT
DTSTART:20200308T100000
END:DAYLIGHT
BEGIN:STANDARD
TZOFFSETFROM:-0700
TZOFFSETTO:-0800
TZNAME:PST
DTSTART:20201101T090000
END:STANDARD
END:VTIMEZONE
BEGIN:VEVENT
DTSTART;VALUE=DATE:20200910
DTEND;VALUE=DATE:20200912
DTSTAMP:20260419T091121
CREATED:20200304T211413Z
LAST-MODIFIED:20200908T013652Z
UID:5924-1599696000-1599868799@campusview.sd61.bc.ca
SUMMARY:School Opening Day 8:45 - 11:15 AM for 1/2  the school population
DESCRIPTION:please see email on Tuesday from your classroom teacher for the day you will attend – Thursday or Friday
URL:https://campusview.sd61.bc.ca/calendar-event/school-opening-day-900-1130-am/
END:VEVENT
BEGIN:VEVENT
DTSTART;VALUE=DATE:20200916
DTEND;VALUE=DATE:20200917
DTSTAMP:20260419T091121
CREATED:20200528T174654Z
LAST-MODIFIED:20200906T010719Z
UID:5997-1600214400-1600300799@campusview.sd61.bc.ca
SUMMARY:Meet the Teacher - TBA - we are not certain how this will occur yet
DESCRIPTION:
URL:https://campusview.sd61.bc.ca/calendar-event/meet-the-teacher-600-700-pm/
END:VEVENT
BEGIN:VEVENT
DTSTART;VALUE=DATE:20200917
DTEND;VALUE=DATE:20200918
DTSTAMP:20260419T091121
CREATED:20200616T152906Z
LAST-MODIFIED:20200906T010753Z
UID:6086-1600300800-1600387199@campusview.sd61.bc.ca
SUMMARY:PAC Meeting\, 7:00 pm\, zoom
DESCRIPTION:
URL:https://campusview.sd61.bc.ca/calendar-event/pac-meeting-700-900-pm-library/
END:VEVENT
BEGIN:VEVENT
DTSTART;VALUE=DATE:20200918
DTEND;VALUE=DATE:20200919
DTSTAMP:20260419T091121
CREATED:20200528T175957Z
LAST-MODIFIED:20200908T013750Z
UID:6027-1600387200-1600473599@campusview.sd61.bc.ca
SUMMARY:Fire Drill - TBA
DESCRIPTION:
URL:https://campusview.sd61.bc.ca/calendar-event/fire-drill-3/
END:VEVENT
BEGIN:VEVENT
DTSTART;VALUE=DATE:20200925
DTEND;VALUE=DATE:20200926
DTSTAMP:20260419T091121
CREATED:20200528T175052Z
LAST-MODIFIED:20200908T013830Z
UID:6009-1600992000-1601078399@campusview.sd61.bc.ca
SUMMARY:Terry Fox Run -  (we are not certain how/if this will occur at this time)
DESCRIPTION:
URL:https://campusview.sd61.bc.ca/calendar-event/terry-fox-run-1000-am-on/
END:VEVENT
BEGIN:VEVENT
DTSTART;VALUE=DATE:20200928
DTEND;VALUE=DATE:20200929
DTSTAMP:20260419T091121
CREATED:20200429T183820Z
LAST-MODIFIED:20200429T183820Z
UID:5953-1601251200-1601337599@campusview.sd61.bc.ca
SUMMARY:Professional Development Day - No school for students
DESCRIPTION:
URL:https://campusview.sd61.bc.ca/calendar-event/professional-development-day-no-school-for-students/
END:VEVENT
BEGIN:VEVENT
DTSTART;VALUE=DATE:20200930
DTEND;VALUE=DATE:20201001
DTSTAMP:20260419T091121
CREATED:20200528T175323Z
LAST-MODIFIED:20200528T175323Z
UID:6018-1601424000-1601510399@campusview.sd61.bc.ca
SUMMARY:Orange Shirt Day
DESCRIPTION:
URL:https://campusview.sd61.bc.ca/calendar-event/orange-shirt-day-2/
END:VEVENT
BEGIN:VEVENT
DTSTART;VALUE=DATE:20201001
DTEND;VALUE=DATE:20201002
DTSTAMP:20260419T091121
CREATED:20200528T180224Z
LAST-MODIFIED:20200923T204635Z
UID:6031-1601510400-1601596799@campusview.sd61.bc.ca
SUMMARY:Earthquake Drill
DESCRIPTION:
URL:https://campusview.sd61.bc.ca/calendar-event/earthquake-drill-1015-am/
END:VEVENT
END:VCALENDAR